BEGIN:VCALENDAR
VERSION:2.0
PRODID:-//Twice the Spice - ECPv6.5.1.6//NONSGML v1.0//EN
CALSCALE:GREGORIAN
METHOD:PUBLISH
X-ORIGINAL-URL:https://twicethespice.com
X-WR-CALDESC:Events for Twice the Spice
REFRESH-INTERVAL;VALUE=DURATION:PT1H
X-Robots-Tag:noindex
X-PUBLISHED-TTL:PT1H
BEGIN:VTIMEZONE
TZID:America/New_York
BEGIN:DAYLIGHT
TZOFFSETFROM:-0500
TZOFFSETTO:-0400
TZNAME:EDT
DTSTART:20230312T070000
END:DAYLIGHT
BEGIN:STANDARD
TZOFFSETFROM:-0400
TZOFFSETTO:-0500
TZNAME:EST
DTSTART:20231105T060000
END:STANDARD
END:VTIMEZONE
BEGIN:VEVENT
DTSTART;TZID=America/New_York:20230629T110000
DTEND;TZID=America/New_York:20230702T200000
DTSTAMP:20260423T065813
CREATED:20230309T193648Z
LAST-MODIFIED:20230309T193648Z
UID:3799-1688036400-1688328000@twicethespice.com
SUMMARY:WESTMORELAND ARTS & HERITAGE FESTIVAL
DESCRIPTION:
URL:https://twicethespice.com/upcoming-events/westmoreland-arts-heritage-festival/
LOCATION:Twin Lakes Park\, 219 Twin Lakes Road\, Latrobe\, PA\, 15650\, United States
END:VEVENT
END:VCALENDAR