BEGIN:VCALENDAR
VERSION:2.0
PRODID:-//Twice the Spice - ECPv6.5.1.6//NONSGML v1.0//EN
CALSCALE:GREGORIAN
METHOD:PUBLISH
X-ORIGINAL-URL:https://twicethespice.com
X-WR-CALDESC:Events for Twice the Spice
REFRESH-INTERVAL;VALUE=DURATION:PT1H
X-Robots-Tag:noindex
X-PUBLISHED-TTL:PT1H
BEGIN:VTIMEZONE
TZID:America/New_York
BEGIN:DAYLIGHT
TZOFFSETFROM:-0500
TZOFFSETTO:-0400
TZNAME:EDT
DTSTART:20220313T070000
END:DAYLIGHT
BEGIN:STANDARD
TZOFFSETFROM:-0400
TZOFFSETTO:-0500
TZNAME:EST
DTSTART:20221106T060000
END:STANDARD
END:VTIMEZONE
BEGIN:VEVENT
DTSTART;TZID=America/New_York:20220611T110000
DTEND;TZID=America/New_York:20220612T170000
DTSTAMP:20260424T052027
CREATED:20220323T151742Z
LAST-MODIFIED:20220323T151742Z
UID:3525-1654945200-1655053200@twicethespice.com
SUMMARY:Pioneer Valley Wine Festival
DESCRIPTION:
URL:https://twicethespice.com/upcoming-events/pioneer-valley-wine-festival/
LOCATION:Brimfield Winery & Cidery\, 35 Main St\, Brimfield\, MA\, 01010\, United States
END:VEVENT
BEGIN:VEVENT
DTSTART;TZID=America/New_York:20220618T100000
DTEND;TZID=America/New_York:20220619T170000
DTSTAMP:20260424T052027
CREATED:20220323T152520Z
LAST-MODIFIED:20220323T152520Z
UID:3528-1655546400-1655658000@twicethespice.com
SUMMARY:Monroe Strawberry Festival
DESCRIPTION:
URL:https://twicethespice.com/upcoming-events/monroe-strawberry-festival-3/
LOCATION:Monroe Town Green\, 34 Church St\, Monroe\, CT\, 06468\, United States
END:VEVENT
END:VCALENDAR