BEGIN:VCALENDAR
VERSION:2.0
PRODID:-//Twice the Spice - ECPv6.5.1.6//NONSGML v1.0//EN
CALSCALE:GREGORIAN
METHOD:PUBLISH
X-WR-CALNAME:Twice the Spice
X-ORIGINAL-URL:https://twicethespice.com
X-WR-CALDESC:Events for Twice the Spice
REFRESH-INTERVAL;VALUE=DURATION:PT1H
X-Robots-Tag:noindex
X-PUBLISHED-TTL:PT1H
BEGIN:VTIMEZONE
TZID:America/New_York
BEGIN:DAYLIGHT
TZOFFSETFROM:-0500
TZOFFSETTO:-0400
TZNAME:EDT
DTSTART:20200308T070000
END:DAYLIGHT
BEGIN:STANDARD
TZOFFSETFROM:-0400
TZOFFSETTO:-0500
TZNAME:EST
DTSTART:20201101T060000
END:STANDARD
END:VTIMEZONE
BEGIN:VEVENT
DTSTART;TZID=America/New_York:20200701T160000
DTEND;TZID=America/New_York:20200701T190000
DTSTAMP:20260425T210318
CREATED:20200408T043303Z
LAST-MODIFIED:20200408T043458Z
UID:2676-1593619200-1593630000@twicethespice.com
SUMMARY:Ledyard Farmers Market
DESCRIPTION:
URL:https://twicethespice.com/upcoming-events/ledyard-farmers-market-2/
LOCATION:Ledyard Town Green\, 284 Stoddards Wharf Road\, Gales Ferry\, CT\, 06335\, United States
END:VEVENT
BEGIN:VEVENT
DTSTART;TZID=America/New_York:20200701T163000
DTEND;TZID=America/New_York:20200701T193000
DTSTAMP:20260425T210318
CREATED:20200625T194227Z
LAST-MODIFIED:20200625T194227Z
UID:2961-1593621000-1593631800@twicethespice.com
SUMMARY:Spruce Street Market
DESCRIPTION:
URL:https://twicethespice.com/upcoming-events/spruce-street-market/
LOCATION:153 & 163 Spruce Street\, 153 Spruce Street\, Manchester\, CT\, United States
END:VEVENT
BEGIN:VEVENT
DTSTART;TZID=America/New_York:20200702T130000
DTEND;TZID=America/New_York:20200702T173000
DTSTAMP:20260425T210318
CREATED:20200625T151845Z
LAST-MODIFIED:20200625T151845Z
UID:2902-1593694800-1593711000@twicethespice.com
SUMMARY:Holyoke Farmers Market
DESCRIPTION:
URL:https://twicethespice.com/upcoming-events/holyoke-farmers-market-2/
LOCATION:Holyoke\, MA\, Veterans Memorial Park\, Holyoke\, MA\, United States
END:VEVENT
BEGIN:VEVENT
DTSTART;TZID=America/New_York:20200705T090000
DTEND;TZID=America/New_York:20200705T130000
DTSTAMP:20260425T210318
CREATED:20200408T050152Z
LAST-MODIFIED:20200408T050152Z
UID:2689-1593939600-1593954000@twicethespice.com
SUMMARY:Colchester Farmers Market
DESCRIPTION:
URL:https://twicethespice.com/upcoming-events/colchester-farmers-market-2/
LOCATION:Colchester Farmers Market\, 97 Hayward Avenue\, Colchester\, CT\, 06415\, United States
END:VEVENT
BEGIN:VEVENT
DTSTART;TZID=America/New_York:20200707T150000
DTEND;TZID=America/New_York:20200707T180000
DTSTAMP:20260425T210318
CREATED:20200625T192955Z
LAST-MODIFIED:20200625T192955Z
UID:2945-1594134000-1594144800@twicethespice.com
SUMMARY:West End Farmers Market
DESCRIPTION:
URL:https://twicethespice.com/upcoming-events/west-end-farmers-market-2/
LOCATION:Clemens Green\, Farmington Avenue\, Hartford\, CT\, United States
END:VEVENT
BEGIN:VEVENT
DTSTART;TZID=America/New_York:20200708T160000
DTEND;TZID=America/New_York:20200708T190000
DTSTAMP:20260425T210318
CREATED:20200408T050401Z
LAST-MODIFIED:20200408T050401Z
UID:2691-1594224000-1594234800@twicethespice.com
SUMMARY:Ledyard Farmers Market
DESCRIPTION:
URL:https://twicethespice.com/upcoming-events/ledyard-farmers-market-3/
LOCATION:Ledyard Town Green\, 284 Stoddards Wharf Road\, Gales Ferry\, CT\, 06335\, United States
END:VEVENT
BEGIN:VEVENT
DTSTART;TZID=America/New_York:20200709T130000
DTEND;TZID=America/New_York:20200709T173000
DTSTAMP:20260425T210318
CREATED:20200625T153132Z
LAST-MODIFIED:20200625T153132Z
UID:2904-1594299600-1594315800@twicethespice.com
SUMMARY:Holyoke Farmers Market
DESCRIPTION:
URL:https://twicethespice.com/upcoming-events/holyoke-farmers-market-3/
LOCATION:Holyoke\, MA\, Veterans Memorial Park\, Holyoke\, MA\, United States
END:VEVENT
BEGIN:VEVENT
DTSTART;TZID=America/New_York:20200712T090000
DTEND;TZID=America/New_York:20200712T130000
DTSTAMP:20260425T210318
CREATED:20200408T051558Z
LAST-MODIFIED:20200408T051558Z
UID:2696-1594544400-1594558800@twicethespice.com
SUMMARY:Colchester Farmers Market
DESCRIPTION:
URL:https://twicethespice.com/upcoming-events/colchester-farmers-market-3/
LOCATION:Colchester Farmers Market\, 97 Hayward Avenue\, Colchester\, CT\, 06415\, United States
END:VEVENT
BEGIN:VEVENT
DTSTART;TZID=America/New_York:20200714T150000
DTEND;TZID=America/New_York:20200714T180000
DTSTAMP:20260425T210318
CREATED:20200625T193040Z
LAST-MODIFIED:20200625T193040Z
UID:2947-1594738800-1594749600@twicethespice.com
SUMMARY:West End Farmers Market
DESCRIPTION:
URL:https://twicethespice.com/upcoming-events/west-end-farmers-market-3/
LOCATION:Clemens Green\, Farmington Avenue\, Hartford\, CT\, United States
END:VEVENT
BEGIN:VEVENT
DTSTART;TZID=America/New_York:20200716T130000
DTEND;TZID=America/New_York:20200716T173000
DTSTAMP:20260425T210318
CREATED:20200625T153333Z
LAST-MODIFIED:20200625T153333Z
UID:2906-1594904400-1594920600@twicethespice.com
SUMMARY:Holyoke Farmers Market
DESCRIPTION:
URL:https://twicethespice.com/upcoming-events/holyoke-farmers-market-4/
LOCATION:Holyoke\, MA\, Veterans Memorial Park\, Holyoke\, MA\, United States
END:VEVENT
BEGIN:VEVENT
DTSTART;TZID=America/New_York:20200719T090000
DTEND;TZID=America/New_York:20200719T130000
DTSTAMP:20260425T210318
CREATED:20200408T052535Z
LAST-MODIFIED:20200408T052535Z
UID:2704-1595149200-1595163600@twicethespice.com
SUMMARY:Colchester Farmers Market
DESCRIPTION:
URL:https://twicethespice.com/upcoming-events/colchester-farmers-market-4/
LOCATION:Colchester Farmers Market\, 97 Hayward Avenue\, Colchester\, CT\, 06415\, United States
END:VEVENT
BEGIN:VEVENT
DTSTART;TZID=America/New_York:20200721T150000
DTEND;TZID=America/New_York:20200721T180000
DTSTAMP:20260425T210318
CREATED:20200625T193122Z
LAST-MODIFIED:20200625T193122Z
UID:2949-1595343600-1595354400@twicethespice.com
SUMMARY:West End Farmers Market
DESCRIPTION:
URL:https://twicethespice.com/upcoming-events/west-end-farmers-market-4/
LOCATION:Clemens Green\, Farmington Avenue\, Hartford\, CT\, United States
END:VEVENT
BEGIN:VEVENT
DTSTART;TZID=America/New_York:20200722T160000
DTEND;TZID=America/New_York:20200722T190000
DTSTAMP:20260425T210318
CREATED:20200408T052704Z
LAST-MODIFIED:20200408T052704Z
UID:2706-1595433600-1595444400@twicethespice.com
SUMMARY:Ledyard Farmers Market
DESCRIPTION:
URL:https://twicethespice.com/upcoming-events/ledyard-farmers-market-4/
LOCATION:Ledyard Town Green\, 284 Stoddards Wharf Road\, Gales Ferry\, CT\, 06335\, United States
END:VEVENT
BEGIN:VEVENT
DTSTART;TZID=America/New_York:20200726T090000
DTEND;TZID=America/New_York:20200726T130000
DTSTAMP:20260425T210318
CREATED:20200408T055144Z
LAST-MODIFIED:20200408T055144Z
UID:2720-1595754000-1595768400@twicethespice.com
SUMMARY:Colchester Farmers Market
DESCRIPTION:
URL:https://twicethespice.com/upcoming-events/colchester-farmers-market-5/
LOCATION:Colchester Farmers Market\, 97 Hayward Avenue\, Colchester\, CT\, 06415\, United States
END:VEVENT
BEGIN:VEVENT
DTSTART;TZID=America/New_York:20200728T150000
DTEND;TZID=America/New_York:20200728T180000
DTSTAMP:20260425T210318
CREATED:20200625T193229Z
LAST-MODIFIED:20200625T193229Z
UID:2951-1595948400-1595959200@twicethespice.com
SUMMARY:West End Farmers Market
DESCRIPTION:
URL:https://twicethespice.com/upcoming-events/west-end-farmers-market-5/
LOCATION:Clemens Green\, Farmington Avenue\, Hartford\, CT\, United States
END:VEVENT
BEGIN:VEVENT
DTSTART;TZID=America/New_York:20200730T130000
DTEND;TZID=America/New_York:20200730T173000
DTSTAMP:20260425T210318
CREATED:20200625T153704Z
LAST-MODIFIED:20200625T153704Z
UID:2910-1596114000-1596130200@twicethespice.com
SUMMARY:Holyoke Farmers Market
DESCRIPTION:
URL:https://twicethespice.com/upcoming-events/holyoke-farmers-market-6/
LOCATION:Holyoke\, MA\, Veterans Memorial Park\, Holyoke\, MA\, United States
END:VEVENT
END:VCALENDAR