BEGIN:VCALENDAR
VERSION:2.0
PRODID:-//Twice the Spice - ECPv6.5.1.6//NONSGML v1.0//EN
CALSCALE:GREGORIAN
METHOD:PUBLISH
X-WR-CALNAME:Twice the Spice
X-ORIGINAL-URL:https://twicethespice.com
X-WR-CALDESC:Events for Twice the Spice
REFRESH-INTERVAL;VALUE=DURATION:PT1H
X-Robots-Tag:noindex
X-PUBLISHED-TTL:PT1H
BEGIN:VTIMEZONE
TZID:America/New_York
BEGIN:DAYLIGHT
TZOFFSETFROM:-0500
TZOFFSETTO:-0400
TZNAME:EDT
DTSTART:20250309T070000
END:DAYLIGHT
BEGIN:STANDARD
TZOFFSETFROM:-0400
TZOFFSETTO:-0500
TZNAME:EST
DTSTART:20251102T060000
END:STANDARD
END:VTIMEZONE
BEGIN:VEVENT
DTSTART;TZID=America/New_York:20250607T110000
DTEND;TZID=America/New_York:20250608T170000
DTSTAMP:20260420T010600
CREATED:20240607T150624Z
LAST-MODIFIED:20250521T144752Z
UID:4083-1749294000-1749402000@twicethespice.com
SUMMARY:The Pioneer Valley Wine Festival
DESCRIPTION:
URL:https://twicethespice.com/upcoming-events/the-pioneer-valley-wine-festival/
LOCATION:Brimfield Winery & Cidery\, 35 Main St\, Brimfield\, MA\, 01010\, United States
END:VEVENT
BEGIN:VEVENT
DTSTART;TZID=America/New_York:20250614T100000
DTEND;TZID=America/New_York:20250615T170000
DTSTAMP:20260420T010600
CREATED:20240607T153804Z
LAST-MODIFIED:20250521T144017Z
UID:4091-1749895200-1750006800@twicethespice.com
SUMMARY:Monroe Strawberry Festival
DESCRIPTION:
URL:https://twicethespice.com/upcoming-events/monroe-strawberry-festival-5/
LOCATION:Monroe Town Green\, 34 Church St\, Monroe\, CT\, 06468\, United States
END:VEVENT
BEGIN:VEVENT
DTSTART;TZID=America/New_York:20250705T100000
DTEND;TZID=America/New_York:20250706T170000
DTSTAMP:20260420T010600
CREATED:20250521T145323Z
LAST-MODIFIED:20250521T161942Z
UID:4315-1751709600-1751821200@twicethespice.com
SUMMARY:Niantic Arts & Crafts Show
DESCRIPTION:
URL:https://twicethespice.com/upcoming-events/niantic-arts-crafts-show/
LOCATION:East Lyme Town Hall Green\, 108 Pennsylvania Avenue\, East Lyme\, CT\, 06357\, United States
END:VEVENT
BEGIN:VEVENT
DTSTART;TZID=America/New_York:20250808T100000
DTEND;TZID=America/New_York:20250810T170000
DTSTAMP:20260420T010600
CREATED:20250521T163140Z
LAST-MODIFIED:20250521T170335Z
UID:4320-1754647200-1754845200@twicethespice.com
SUMMARY:Vintage Market Days of Connecticut
DESCRIPTION:
URL:https://twicethespice.com/upcoming-events/vintage-market-days-of-connecticut-2/
LOCATION:Harwinton Fairgrounds\, 150 Locust Rd\, Harwinton\, CT\, 06791\, United States
END:VEVENT
BEGIN:VEVENT
DTSTART;TZID=America/New_York:20250816T090000
DTEND;TZID=America/New_York:20250817T170000
DTSTAMP:20260420T010600
CREATED:20250521T162826Z
LAST-MODIFIED:20250521T162826Z
UID:4318-1755334800-1755450000@twicethespice.com
SUMMARY:44th Annual Gloucester Waterfront Festival
DESCRIPTION:
URL:https://twicethespice.com/upcoming-events/44th-annual-gloucester-waterfront-festival/
LOCATION:Stage Fort Park\, 24 Hough Ave\, Gloucester\, MA\, United States
END:VEVENT
BEGIN:VEVENT
DTSTART;TZID=America/New_York:20250829T100000
DTEND;TZID=America/New_York:20250901T210000
DTSTAMP:20260420T010600
CREATED:20230309T194417Z
LAST-MODIFIED:20250521T182834Z
UID:3801-1756461600-1756760400@twicethespice.com
SUMMARY:Woodstock Fair
DESCRIPTION:
URL:https://twicethespice.com/upcoming-events/woodstock-fair/
LOCATION:Woodstock Fairgrounds\, 281 Route 169\, South Woodstock\, CT\, 06267\, United States
END:VEVENT
BEGIN:VEVENT
DTSTART;TZID=America/New_York:20250906T100000
DTEND;TZID=America/New_York:20250907T170000
DTSTAMP:20260420T010600
CREATED:20230309T194705Z
LAST-MODIFIED:20250521T183057Z
UID:3804-1757152800-1757264400@twicethespice.com
SUMMARY:Monroe Apple Festival
DESCRIPTION:
URL:https://twicethespice.com/upcoming-events/monroe-apple-festival/
LOCATION:Monroe Town Green\, 34 Church St\, Monroe\, CT\, 06468\, United States
END:VEVENT
BEGIN:VEVENT
DTSTART;TZID=America/New_York:20250921T100000
DTEND;TZID=America/New_York:20250921T170000
DTSTAMP:20260420T010600
CREATED:20230309T195113Z
LAST-MODIFIED:20250521T185637Z
UID:3806-1758448800-1758474000@twicethespice.com
SUMMARY:Seymour Pumpkin Festival
DESCRIPTION:
URL:https://twicethespice.com/upcoming-events/seymour-pumpkin-festival/
LOCATION:French Memorial Park\, 62 Spruce St\, Seymour\, CT\, 06483\, United States
END:VEVENT
BEGIN:VEVENT
DTSTART;TZID=America/New_York:20250927T090000
DTEND;TZID=America/New_York:20250928T170000
DTSTAMP:20260420T010600
CREATED:20230309T195844Z
LAST-MODIFIED:20250521T190713Z
UID:3809-1758963600-1759078800@twicethespice.com
SUMMARY:Hudson Valley Garlic Festival
DESCRIPTION:
URL:https://twicethespice.com/upcoming-events/hudson-valley-garlic-festival/
LOCATION:Cantine Veterans Memorial Complex\, Washington Avenue Extension\, Saugerties\, New York\, 12477\, United States
END:VEVENT
BEGIN:VEVENT
DTSTART;TZID=America/New_York:20251011T090000
DTEND;TZID=America/New_York:20251012T170000
DTSTAMP:20260420T010600
CREATED:20230309T203135Z
LAST-MODIFIED:20250521T190843Z
UID:3812-1760173200-1760288400@twicethespice.com
SUMMARY:Bethlehem Garlic Festival
DESCRIPTION:
URL:https://twicethespice.com/upcoming-events/bethlehem-garlic-festival/
LOCATION:Bethlehem Fairgrounds\, 304 Main St. North (Route 61)\, Bethlehem\, CT\, 06751\, United States
END:VEVENT
BEGIN:VEVENT
DTSTART;TZID=America/New_York:20251025T100000
DTEND;TZID=America/New_York:20251026T170000
DTSTAMP:20260420T010600
CREATED:20230309T203715Z
LAST-MODIFIED:20250521T190958Z
UID:3815-1761386400-1761498000@twicethespice.com
SUMMARY:Castleberry Fall Craft Festival
DESCRIPTION:
URL:https://twicethespice.com/upcoming-events/castleberry-fall-craft-festival/
LOCATION:Shriner’s Auditorium ~ Wilmington\, MA\, 99 Fordham Road\, Wilmington\, MA\, United States
END:VEVENT
BEGIN:VEVENT
DTSTART;TZID=America/New_York:20251114T100000
DTEND;TZID=America/New_York:20251116T170000
DTSTAMP:20260420T010600
CREATED:20230309T204316Z
LAST-MODIFIED:20250521T191344Z
UID:3817-1763114400-1763312400@twicethespice.com
SUMMARY:New England Craft & Specialty Food Fair
DESCRIPTION:
URL:https://twicethespice.com/upcoming-events/new-england-craft-specialty-food-fair/
LOCATION:Indoor Arena at the Topsfield Fairgrounds\, Route 1\, Topsfield\, MA\, 207 Boston Street\, Topsfield\, MA\, 01983\, United States
END:VEVENT
BEGIN:VEVENT
DTSTART;TZID=America/New_York:20251128T090000
DTEND;TZID=America/New_York:20251130T170000
DTSTAMP:20260420T010600
CREATED:20250521T191649Z
LAST-MODIFIED:20250521T191649Z
UID:4323-1764320400-1764522000@twicethespice.com
SUMMARY:Original Castleberry Faire
DESCRIPTION:
URL:https://twicethespice.com/upcoming-events/original-castleberry-faire/
LOCATION:Shriner’s Auditorium ~ Wilmington\, MA\, 99 Fordham Road\, Wilmington\, MA\, United States
END:VEVENT
END:VCALENDAR