BEGIN:VCALENDAR
VERSION:2.0
PRODID:-//Twice the Spice - ECPv6.5.1.6//NONSGML v1.0//EN
CALSCALE:GREGORIAN
METHOD:PUBLISH
X-ORIGINAL-URL:https://twicethespice.com
X-WR-CALDESC:Events for Twice the Spice
REFRESH-INTERVAL;VALUE=DURATION:PT1H
X-Robots-Tag:noindex
X-PUBLISHED-TTL:PT1H
BEGIN:VTIMEZONE
TZID:America/New_York
BEGIN:DAYLIGHT
TZOFFSETFROM:-0500
TZOFFSETTO:-0400
TZNAME:EDT
DTSTART:20250309T070000
END:DAYLIGHT
BEGIN:STANDARD
TZOFFSETFROM:-0400
TZOFFSETTO:-0500
TZNAME:EST
DTSTART:20251102T060000
END:STANDARD
END:VTIMEZONE
BEGIN:VEVENT
DTSTART;TZID=America/New_York:20250906T100000
DTEND;TZID=America/New_York:20250907T170000
DTSTAMP:20260419T104504
CREATED:20230309T194705Z
LAST-MODIFIED:20250521T183057Z
UID:3804-1757152800-1757264400@twicethespice.com
SUMMARY:Monroe Apple Festival
DESCRIPTION:
URL:https://twicethespice.com/upcoming-events/monroe-apple-festival/
LOCATION:Monroe Town Green\, 34 Church St\, Monroe\, CT\, 06468\, United States
END:VEVENT
END:VCALENDAR