BEGIN:VCALENDAR
VERSION:2.0
PRODID:-//Twice the Spice - ECPv6.5.1.6//NONSGML v1.0//EN
CALSCALE:GREGORIAN
METHOD:PUBLISH
X-WR-CALNAME:Twice the Spice
X-ORIGINAL-URL:https://twicethespice.com
X-WR-CALDESC:Events for Twice the Spice
REFRESH-INTERVAL;VALUE=DURATION:PT1H
X-Robots-Tag:noindex
X-PUBLISHED-TTL:PT1H
BEGIN:VTIMEZONE
TZID:America/New_York
BEGIN:DAYLIGHT
TZOFFSETFROM:-0500
TZOFFSETTO:-0400
TZNAME:EDT
DTSTART:20230312T070000
END:DAYLIGHT
BEGIN:STANDARD
TZOFFSETFROM:-0400
TZOFFSETTO:-0500
TZNAME:EST
DTSTART:20231105T060000
END:STANDARD
END:VTIMEZONE
BEGIN:VEVENT
DTSTART;TZID=America/New_York:20230617T100000
DTEND;TZID=America/New_York:20230618T170000
DTSTAMP:20260423T104210
CREATED:20230309T193250Z
LAST-MODIFIED:20230309T193250Z
UID:3797-1686996000-1687107600@twicethespice.com
SUMMARY:Monroe Strawberry Festival
DESCRIPTION:
URL:https://twicethespice.com/upcoming-events/monroe-strawberry-festival-4/
LOCATION:Monroe Town Green\, 34 Church St\, Monroe\, CT\, 06468\, United States
END:VEVENT
END:VCALENDAR