BEGIN:VCALENDAR
VERSION:2.0
PRODID:-//Twice the Spice - ECPv6.5.1.6//NONSGML v1.0//EN
CALSCALE:GREGORIAN
METHOD:PUBLISH
X-WR-CALNAME:Twice the Spice
X-ORIGINAL-URL:https://twicethespice.com
X-WR-CALDESC:Events for Twice the Spice
REFRESH-INTERVAL;VALUE=DURATION:PT1H
X-Robots-Tag:noindex
X-PUBLISHED-TTL:PT1H
BEGIN:VTIMEZONE
TZID:America/New_York
BEGIN:DAYLIGHT
TZOFFSETFROM:-0500
TZOFFSETTO:-0400
TZNAME:EDT
DTSTART:20200308T070000
END:DAYLIGHT
BEGIN:STANDARD
TZOFFSETFROM:-0400
TZOFFSETTO:-0500
TZNAME:EST
DTSTART:20201101T060000
END:STANDARD
END:VTIMEZONE
BEGIN:VEVENT
DTSTART;TZID=America/New_York:20200709T130000
DTEND;TZID=America/New_York:20200709T173000
DTSTAMP:20260425T223815
CREATED:20200625T153132Z
LAST-MODIFIED:20200625T153132Z
UID:2904-1594299600-1594315800@twicethespice.com
SUMMARY:Holyoke Farmers Market
DESCRIPTION:
URL:https://twicethespice.com/upcoming-events/holyoke-farmers-market-3/
LOCATION:Holyoke\, MA\, Veterans Memorial Park\, Holyoke\, MA\, United States
END:VEVENT
END:VCALENDAR