BEGIN:VCALENDAR
VERSION:2.0
PRODID:-//Twice the Spice - ECPv6.5.1.6//NONSGML v1.0//EN
CALSCALE:GREGORIAN
METHOD:PUBLISH
X-ORIGINAL-URL:https://twicethespice.com
X-WR-CALDESC:Events for Twice the Spice
REFRESH-INTERVAL;VALUE=DURATION:PT1H
X-Robots-Tag:noindex
X-PUBLISHED-TTL:PT1H
BEGIN:VTIMEZONE
TZID:America/New_York
BEGIN:DAYLIGHT
TZOFFSETFROM:-0500
TZOFFSETTO:-0400
TZNAME:EDT
DTSTART:20200308T070000
END:DAYLIGHT
BEGIN:STANDARD
TZOFFSETFROM:-0400
TZOFFSETTO:-0500
TZNAME:EST
DTSTART:20201101T060000
END:STANDARD
END:VTIMEZONE
BEGIN:VEVENT
DTSTART;TZID=America/New_York:20200701T160000
DTEND;TZID=America/New_York:20200701T190000
DTSTAMP:20260425T224108
CREATED:20200408T043303Z
LAST-MODIFIED:20200408T043458Z
UID:2676-1593619200-1593630000@twicethespice.com
SUMMARY:Ledyard Farmers Market
DESCRIPTION:
URL:https://twicethespice.com/upcoming-events/ledyard-farmers-market-2/
LOCATION:Ledyard Town Green\, 284 Stoddards Wharf Road\, Gales Ferry\, CT\, 06335\, United States
END:VEVENT
BEGIN:VEVENT
DTSTART;TZID=America/New_York:20200701T163000
DTEND;TZID=America/New_York:20200701T193000
DTSTAMP:20260425T224108
CREATED:20200625T194227Z
LAST-MODIFIED:20200625T194227Z
UID:2961-1593621000-1593631800@twicethespice.com
SUMMARY:Spruce Street Market
DESCRIPTION:
URL:https://twicethespice.com/upcoming-events/spruce-street-market/
LOCATION:153 & 163 Spruce Street\, 153 Spruce Street\, Manchester\, CT\, United States
END:VEVENT
END:VCALENDAR