BEGIN:VCALENDAR
VERSION:2.0
PRODID:-//Twice the Spice - ECPv6.5.1.6//NONSGML v1.0//EN
CALSCALE:GREGORIAN
METHOD:PUBLISH
X-WR-CALNAME:Twice the Spice
X-ORIGINAL-URL:https://twicethespice.com
X-WR-CALDESC:Events for Twice the Spice
REFRESH-INTERVAL;VALUE=DURATION:PT1H
X-Robots-Tag:noindex
X-PUBLISHED-TTL:PT1H
BEGIN:VTIMEZONE
TZID:America/New_York
BEGIN:DAYLIGHT
TZOFFSETFROM:-0500
TZOFFSETTO:-0400
TZNAME:EDT
DTSTART:20200308T070000
END:DAYLIGHT
BEGIN:STANDARD
TZOFFSETFROM:-0400
TZOFFSETTO:-0500
TZNAME:EST
DTSTART:20201101T060000
END:STANDARD
END:VTIMEZONE
BEGIN:VEVENT
DTSTART;TZID=America/New_York:20200621T090000
DTEND;TZID=America/New_York:20200621T130000
DTSTAMP:20260426T002750
CREATED:20200408T034531Z
LAST-MODIFIED:20200408T034531Z
UID:2657-1592730000-1592744400@twicethespice.com
SUMMARY:Colchester Farmers Market
DESCRIPTION:
URL:https://twicethespice.com/upcoming-events/colchester-farmers-market/
LOCATION:Colchester Farmers Market\, 97 Hayward Avenue\, Colchester\, CT\, 06415\, United States
END:VEVENT
BEGIN:VEVENT
DTSTART;TZID=America/New_York:20200621T120000
DTEND;TZID=America/New_York:20200621T170000
DTSTAMP:20260426T002750
CREATED:20200408T035157Z
LAST-MODIFIED:20200408T035157Z
UID:2663-1592740800-1592758800@twicethespice.com
SUMMARY:Monroe Strawberry Festival
DESCRIPTION:
URL:https://twicethespice.com/upcoming-events/monroe-strawberry-festival-2/
LOCATION:Monroe Town Green\, 34 Church St\, Monroe\, CT\, 06468\, United States
END:VEVENT
END:VCALENDAR